BEGIN:VCALENDAR
VERSION:2.0
PRODID:-//PEAK SPORTS - ECPv6.7.0//NONSGML v1.0//EN
CALSCALE:GREGORIAN
METHOD:PUBLISH
X-WR-CALNAME:PEAK SPORTS
X-ORIGINAL-URL:https://peaksports.co.ke
X-WR-CALDESC:Events for PEAK SPORTS
REFRESH-INTERVAL;VALUE=DURATION:PT1H
X-Robots-Tag:noindex
X-PUBLISHED-TTL:PT1H
BEGIN:VTIMEZONE
TZID:Africa/Nairobi
BEGIN:STANDARD
TZOFFSETFROM:+0300
TZOFFSETTO:+0300
TZNAME:EAT
DTSTART:20250101T000000
END:STANDARD
TZID:UTC
BEGIN:STANDARD
TZOFFSETFROM:+0000
TZOFFSETTO:+0000
TZNAME:UTC
DTSTART:20240101T000000
END:STANDARD
TZID:Europe/Moscow
BEGIN:STANDARD
TZOFFSETFROM:+0300
TZOFFSETTO:+0300
TZNAME:MSK
DTSTART:20240101T000000
END:STANDARD
END:VTIMEZONE
BEGIN:VEVENT
DTSTART;TZID=Africa/Nairobi:20250125T000000
DTEND;TZID=Africa/Nairobi:20250125T000000
DTSTAMP:20260420T054252
CREATED:20250112T172907Z
LAST-MODIFIED:20250112T173632Z
UID:4614-1737763200-1737763200@peaksports.co.ke
SUMMARY:Special Edition –  Kickboard &  Noodles Gala
DESCRIPTION:Click on Link for Details \nLink \nDear School heads\, Sports HODs\, Swim Coaches\, Team managers\, Swimmers\, and Parents\, We thank you all for continued support you are giving to the growth of sports in the country. We really appreciate your efforts and ask us to walk this journey together to enable athletes’ nature their\ntalents in various sports. Our events are purely meant to give that athlete a chance to showcase various talents in a given arena and aide in transiting from development organized events to County\, National and International organized events. We therefore invite your school\, club\, son or daughter\nto Special Edition for Kickboard & Noodles Swimming Championships slated for 25th January 2025 at All Saints Cathedral Schools\, along Raila Odinga Way. \nThis will give swimmers the opportunity to participate in a well-organized skills meet. We hope this will be a fantastic opportunity for all the swimmers and coaches to experience a well-organized swim meet organized by the leading organization in swimming development.
URL:https://peaksports.co.ke/event/round-5-age-group-swimming-championships-3-3-2/
LOCATION:All Saints’ Cathedral Primary School\, All Saints' Cathedral Primary School\, Nairobi\, 00100\, Kenya
ATTACH;FMTTYPE=image/png:https://peaksports.co.ke/wp-content/uploads/2024/06/image.png
END:VEVENT
BEGIN:VEVENT
DTSTART;TZID=UTC:20250112T000000
DTEND;TZID=UTC:20250112T000000
DTSTAMP:20260420T054252
CREATED:20250112T184303Z
LAST-MODIFIED:20250112T185349Z
UID:4620-1736640000-1736640000@peaksports.co.ke
SUMMARY:Round 4 Age Group  Swimming  Championships
DESCRIPTION:PEAK SPORTS INVITATIONAL SWIMMING CHAMPIONSHIPS \n             Summons……. \nDear School heads\, Sports HODs\, Swim Coaches\, Team managers\, Swimmers\, and Parents\, We thank you all for continued support you are giving to the growth of sports in the country. We really appreciate your efforts and ask us to walk this journey together to enable athletes’ nature their talents in\nvarious sports. Our events are purely meant to give that athlete a chance to showcase various talents in a given arena and aide in transiting from development-organized events to County\, National and International organized events. We therefore invite your school\, club\, son or daughter to Peak Sports Invitational Swimming Championships slated for 7th June 2025 at Moi Educational Centre. This will give swimmers the opportunity to participate in a well-organized meet. We hope this will be a fantastic opportunity for all the swimmers and coaches to experience a well-organized swim meet organized by the leading organization in swimming development. \n  \nSPECTATORS WILL BE ON FIRST COME BASIS.ONLY THE FIRST 100 SPECTATORS WILL \nBE ALLOWED AT KSH. 1000/- PER HEAD \nSEATING ARRANGEMENTS: THE PEAK SPORTS MEET MANAGEMENT WILL ALLOCATE \nSITTING SPACE/AREA AS PER NUMBER OF ATHLETES REGISTERED FOR ALL THE \nTEAMS IN ATTENDANCE. ALL THE TEAMS WILL BE EXPECTED TO MAINTAIN THEIR \nSEATING AREA. \n  \nUnder FINA/KSF Swimming Technical Rules \n\nMeet Date: 7th June 2025\nMeet Organizer: PEAK SPORTS KENYA\n\nE-mail: peaksportskenya@gmail.com \nPhone contacts: 0718 199 614 \n\nMeet Venue : MOI EDUCATIONAL CENTRE\nFacility Information:\n\nAIL SAINTS CATHEDRAL SCHOOLS swimming pool is a 6-lane\, 25-metre short course pool with a manual timing system. The depth of the water at the deep end is 2.4m and the depth at the shallow end is1m. \n\nKey Meet contact\n\nEntry coordinator  : Bonface Moti \nPhone: \n+254 718 199 614 \nEntry Submission: \n\nAll entries are to be submitted in writing with full names\, date of birth\, and event numbers\nEntries to be mailed to njoguanne74@gmail.com and copied to peaksportskenya@gmail.com\n\nEntry Submission Deadline \n\nAll Entries are to be sent latest 7th June 2025\nEntries submitted after this date will not be accepted\n\nEntry Fees: \nEntry fees must be paid for each swimmer willing to participate in this meet. \n\nIndividual entry/activity fee for each individual timed final event/activity per swimmer is Ksh.500\nRelay entry fees for each relay event is Ksh.1000.\n\n                                   RESULTS \nmedalcount.pdf \npeaksport rd5 full results \n 
URL:https://peaksports.co.ke/event/round-5-age-group-swimming-championships-4/
ATTACH;FMTTYPE=image/jpeg:https://peaksports.co.ke/wp-content/uploads/2024/06/Screenshot_20240614-200938_WhatsApp-1075x663-1.jpg
END:VEVENT
BEGIN:VEVENT
DTSTART;VALUE=DATE:20241215
DTEND;VALUE=DATE:20241219
DTSTAMP:20260420T054252
CREATED:20240620T153634Z
LAST-MODIFIED:20240620T153634Z
UID:3616-1734220800-1734566399@peaksports.co.ke
SUMMARY:Chipukizi Swimming &  Football Tournament
DESCRIPTION:PEAK SPORTS INVITATIONAL CHIPUKIZI SWIMMING & FOOTBALL TOURNAMENT \n             Summons……. \nDear School heads\, Sports HODs\, Swim Coaches\, Team managers\, Swimmers\, and Parents\, We thank you all for continued support you are giving to the growth of sports in the country. We really appreciate your efforts and ask us to walk this journey together to enable athletes’ nature their talents in\nvarious sports. Our events are purely meant to give that athlete a chance to showcase various talents in a given arena and aide in transiting from development-organized events to County\, National and International organized events. We therefore invite your school\, club\, son or daughter to Peak Sports Invitational Chipukizi Swimming & Football Tournament slated for 115th – 18th Dec 2024 at Arusha Tanzania. This will give swimmers the opportunity to participate in a well-organized meet. We hope this will be a fantastic opportunity for all the swimmers and coaches to experience a well-organized swim meet organized by the leading organization in swimming development. \n  \nSPECTATORS WILL BE ON FIRST COME BASIS.ONLY THE FIRST 100 SPECTATORS WILL \nBE ALLOWED AT KSH. 1000/- PER HEAD \nSEATING ARRANGEMENTS: THE PEAK SPORTS MEET MANAGEMENT WILL ALLOCATE \nSITTING SPACE/AREA AS PER NUMBER OF ATHLETES REGISTERED FOR ALL THE \nTEAMS IN ATTENDANCE. ALL THE TEAMS WILL BE EXPECTED TO MAINTAIN THEIR \nSEATING AREA. \n  \nUnder FINA/KSF Swimming Technical Rules \n\nMeet Date: 115th – 18th Dec 2024\nMeet Organizer: PEAK SPORTS KENYA\n\nE-mail: peaksportskenya@gmail.com \nPhone contacts: 0718 199 614 \n\nMeet Venue : Arusha Tanzania\nFacility Information:\n\nAIL SAINTS CATHEDRAL SCHOOLS swimming pool is a 6-lane\, 25-metre short course pool with a manual timing system. The depth of the water at the deep end is 2.4m and the depth at the shallow end is1m. \n\nKey Meet contact\n\nEntry coordinator  : Bonface Moti \nPhone: \n+254 718 199 614 \nEntry Submission: \n\nAll entries are to be submitted in writing with full names\, date of birth\, and event numbers\nEntries to be mailed to njoguanne74@gmail.com and copied to peaksportskenya@gmail.com\n\nEntry Submission Deadline \n\nAll Entries are to be sent latest 115th – 18th Dec 2024\nEntries submitted after this date will not be accepted\n\nEntry Fees: \nEntry fees must be paid for each swimmer willing to participate in this meet. \n\nIndividual entry/activity fee for each individual timed final event/activity per swimmer is Ksh.500\nRelay entry fees for each relay event is Ksh.1000.\n\n 
URL:https://peaksports.co.ke/event/round-5-age-group-swimming-championships-3-3/
LOCATION:Arusha Tanzania\, Tanzania\, Tanzania\, Tanzania\, United Republic of
ATTACH;FMTTYPE=image/png:https://peaksports.co.ke/wp-content/uploads/2024/06/image.png
ORGANIZER;CN="Bonface Moti":MAILTO:peaksportskenya@gmail.com
END:VEVENT
BEGIN:VEVENT
DTSTART;VALUE=DATE:20241102
DTEND;VALUE=DATE:20241103
DTSTAMP:20260420T054252
CREATED:20240620T152928Z
LAST-MODIFIED:20241108T170917Z
UID:3614-1730505600-1730591999@peaksports.co.ke
SUMMARY:Skills Swimming Gala  (Under 11)
DESCRIPTION:PEAK SPORTS INVITATIONAL SWIMMING CHAMPIONSHIPS \n             Summons……. \nDear School heads\, Sports HODs\, Swim Coaches\, Team managers\, Swimmers\, and Parents\, We thank you all for continued support you are giving to the growth of sports in the country. We really appreciate your efforts and ask us to walk this journey together to enable athletes’ nature their talents in\nvarious sports. Our events are purely meant to give that athlete a chance to showcase various talents in a given arena and aide in transiting from development-organized events to County\, National and International organized events. We therefore invite your school\, club\, son or daughter to Peak Sports Invitational Skills Swimming Gala (Under 11) slated for 2nd Nov 2024 2024 at All Saints Cathedral Schools . This will give swimmers the opportunity to participate in a well-organized meet. We hope this will be a fantastic opportunity for all the swimmers and coaches to experience a well-organized swim meet organized by the leading organization in swimming development. \n  \nSPECTATORS WILL BE ON FIRST COME BASIS.ONLY THE FIRST 100 SPECTATORS WILL \nBE ALLOWED AT KSH. 1000/- PER HEAD \nSEATING ARRANGEMENTS: THE PEAK SPORTS MEET MANAGEMENT WILL ALLOCATE \nSITTING SPACE/AREA AS PER NUMBER OF ATHLETES REGISTERED FOR ALL THE \nTEAMS IN ATTENDANCE. ALL THE TEAMS WILL BE EXPECTED TO MAINTAIN THEIR \nSEATING AREA. \n  \nUnder FINA/KSF Swimming Technical Rules \n\nMeet Date: 2nd Nov 2024 \nMeet Organizer: PEAK SPORTS KENYA\n\nE-mail: peaksportskenya@gmail.com \nPhone contacts: 0718 199 614 \n\nMeet Venue : All Saints Cathedral Schools\nFacility Information:\n\nNairobi Academy swimming pool is a 6-lane\, 25-metre short course pool with a manual timing system. The depth of the water at the deep end is 2.4m and the depth at the shallow end is1m. \n\nKey Meet contact\n\nEntry coordinator  : Bonface Moti \nPhone: \n+254 718 199 614 \nEntry Submission: \n\nAll entries are to be submitted in writing with full names\, date of birth\, and event numbers\nEntries to be mailed to njoguanne74@gmail.com and copied to peaksportskenya@gmail.com\n\nEntry Submission Deadline \n\nAll Entries are to be sent latest 2nd Nov 2024 \nEntries submitted after this date will not be accepted\n\nEntry Fees: \nEntry fees must be paid for each swimmer willing to participate in this meet. \n\nIndividual entry/activity fee for each individual timed final event/activity per swimmer is Ksh.500\nRelay entry fees for each relay event is Ksh.1000.\n\nRESULTS \n\npeaksport rd 8 results\nmm8indivscores\nmedalcount\nindv scores\n\n 
URL:https://peaksports.co.ke/event/round-5-age-group-swimming-championships-3-2-2/
LOCATION:All Saints’ Cathedral Primary School\, All Saints' Cathedral Primary School\, Nairobi\, 00100\, Kenya
ATTACH;FMTTYPE=image/jpeg:https://peaksports.co.ke/wp-content/uploads/2024/06/Screenshot_20240524-214950_WhatsApp-1070x663-1.jpg
END:VEVENT
BEGIN:VEVENT
DTSTART;VALUE=DATE:20241026
DTEND;VALUE=DATE:20241027
DTSTAMP:20260420T054252
CREATED:20240620T152618Z
LAST-MODIFIED:20240620T152618Z
UID:3611-1729900800-1729987199@peaksports.co.ke
SUMMARY:Football Experience  Tournament - All Saints Cathedral  Schools
DESCRIPTION:PEAK SPORTS FOOTBALL EXPERIENCE  TOURNAMENT- KARURA FOREST\, KIAMBU ROAD \n             Summons……. \nDear School heads\, Sports HODs\, Swim Coaches\, Team managers\, Cyclists\, and Parents\, We thank you all for continued support you are giving to the growth of sports in the country. We really appreciate your efforts and ask us to walk this journey together to enable athletes’ nature their talents in\nvarious sports. Our events are purely meant to give that athlete a chance to showcase various talents in a given arena and aide in transiting from development-organized events to County\, National and International organized events. We therefore invite your school\, club\, son or daughter to Peak Sports Invitational Football Experience at All Saints Cathedral School. We hope this will be a fantastic opportunity for all the teams and coaches to experience a well-organized cycling meet organized by the leading organization in cycling development. \n  \nSPECTATORS WILL BE ON FIRST COME BASIS.ONLY THE FIRST 100 SPECTATORS WILL \nBE ALLOWED AT KSH. 1000/- PER HEAD \nSEATING ARRANGEMENTS: THE PEAK SPORTS MEET MANAGEMENT WILL ALLOCATE \nSITTING SPACE/AREA AS PER NUMBER OF ATHLETES REGISTERED FOR ALL THE \nTEAMS IN ATTENDANCE. ALL THE TEAMS WILL BE EXPECTED TO MAINTAIN THEIR \nSEATING AREA. \n  \nUnder FINA/KSF Swimming Technical Rules \n\nMeet Date: 26th October 2024 \nMeet Organizer: PEAK SPORTS KENYA\n\nE-mail: peaksportskenya@gmail.com \nPhone contacts: 0718 199 614 \n\nMeet Venue : All Saints Cathedral School\nKey Meet contact\n\nEntry coordinator  : Bonface Moti \nPhone: \n+254 718 199 614 \nEntry Submission: \n\nAll entries are to be submitted in writing with full names\, date of birth\, and event numbers\nEntries to be mailed to info@peaksports.co.ke\n\nEntry Submission Deadline \n\nAll Entries are to be sent latest 26th October 2024 \nEntries submitted after this date will not be accepted\n\nEntry Fees: \nEntry fees must be paid for each swimmer willing to participate in this meet. \n\nIndividual entry/activity fee for each individual timed final event/activity per swimmer is Ksh.500\nRelay entry fees for each relay event is Ksh.1000.\n\n 
URL:https://peaksports.co.ke/event/round-5-age-group-swimming-championships-2-2/
LOCATION:Nairobi Academy\, Nairobi\, Nairobi\, Kenya
ATTACH;FMTTYPE=image/jpeg:https://peaksports.co.ke/wp-content/uploads/2024/06/images.jpg
ORGANIZER;CN="Bonface Moti":MAILTO:peaksportskenya@gmail.com
END:VEVENT
BEGIN:VEVENT
DTSTART;VALUE=DATE:20241012
DTEND;VALUE=DATE:20241013
DTSTAMP:20260420T054252
CREATED:20240620T152105Z
LAST-MODIFIED:20240620T152105Z
UID:3609-1728691200-1728777599@peaksports.co.ke
SUMMARY:Age Group Swimming  Championships
DESCRIPTION:PEAK SPORTS INVITATIONAL SWIMMING CHAMPIONSHIPS \n             Summons……. \nDear School heads\, Sports HODs\, Swim Coaches\, Team managers\, Swimmers\, and Parents\, We thank you all for continued support you are giving to the growth of sports in the country. We really appreciate your efforts and ask us to walk this journey together to enable athletes’ nature their talents in\nvarious sports. Our events are purely meant to give that athlete a chance to showcase various talents in a given arena and aide in transiting from development-organized events to County\, National and International organized events. We therefore invite your school\, club\, son or daughter to Peak Sports Invitational Swimming Championships slated for 12th October 2024 at All Saints Cathedral Schools. This will give swimmers the opportunity to participate in a well-organized meet. We hope this will be a fantastic opportunity for all the swimmers and coaches to experience a well-organized swim meet organized by the leading organization in swimming development. \n  \nSPECTATORS WILL BE ON FIRST COME BASIS.ONLY THE FIRST 100 SPECTATORS WILL \nBE ALLOWED AT KSH. 1000/- PER HEAD \nSEATING ARRANGEMENTS: THE PEAK SPORTS MEET MANAGEMENT WILL ALLOCATE \nSITTING SPACE/AREA AS PER NUMBER OF ATHLETES REGISTERED FOR ALL THE \nTEAMS IN ATTENDANCE. ALL THE TEAMS WILL BE EXPECTED TO MAINTAIN THEIR \nSEATING AREA. \n  \nUnder FINA/KSF Swimming Technical Rules \n\nMeet Date: 12th October 2024\nMeet Organizer: PEAK SPORTS KENYA\n\nE-mail: peaksportskenya@gmail.com \nPhone contacts: 0718 199 614 \n\nMeet Venue : AIL SAINTS CATHEDRAL SCHOOLS\nFacility Information:\n\nMoi Education Centre swimming pool is a 6-lane\, 25-metre short course pool with a manual timing system. The depth of the water at the deep end is 2.4m and the depth at the shallow end is1m. \n\nKey Meet contact\n\nEntry coordinator  : Bonface Moti \nPhone: \n+254 718 199 614 \nEntry Submission: \n\nAll entries are to be submitted in writing with full names\, date of birth\, and event numbers\nEntries to be mailed to njoguanne74@gmail.com and copied to peaksportskenya@gmail.com\n\nEntry Submission Deadline \n\nAll Entries are to be sent latest Wednesday 12th October 2024\nEntries submitted after this date will not be accepted\n\nEntry Fees: \nEntry fees must be paid for each swimmer willing to participate in this meet. \n\nIndividual entry/activity fee for each individual timed final event/activity per swimmer is Ksh.500\nRelay entry fees for each relay event is Ksh.1000.\n\n 
URL:https://peaksports.co.ke/event/round-5-age-group-swimming-championships-3-2/
LOCATION:Moi Education Centre\, Nairobi\, Nairobi\, Kenya
ATTACH;FMTTYPE=image/jpeg:https://peaksports.co.ke/wp-content/uploads/2024/06/Screenshot_20240614-200938_WhatsApp-1075x663-1.jpg
END:VEVENT
BEGIN:VEVENT
DTSTART;VALUE=DATE:20240914
DTEND;VALUE=DATE:20240915
DTSTAMP:20260420T054252
CREATED:20240620T151748Z
LAST-MODIFIED:20240620T151748Z
UID:3607-1726272000-1726358399@peaksports.co.ke
SUMMARY:Age Group Swimming  Championships
DESCRIPTION:PEAK SPORTS INVITATIONAL SWIMMING CHAMPIONSHIPS \n             Summons……. \nDear School heads\, Sports HODs\, Swim Coaches\, Team managers\, Swimmers\, and Parents\, We thank you all for continued support you are giving to the growth of sports in the country. We really appreciate your efforts and ask us to walk this journey together to enable athletes’ nature their talents in\nvarious sports. Our events are purely meant to give that athlete a chance to showcase various talents in a given arena and aide in transiting from development-organized events to County\, National and International organized events. We therefore invite your school\, club\, son or daughter to Peak Sports Invitational Swimming Championships slated for 14th September 2024 at All Saints Cathedral Schools. This will give swimmers the opportunity to participate in a well-organized meet. We hope this will be a fantastic opportunity for all the swimmers and coaches to experience a well-organized swim meet organized by the leading organization in swimming development. \n  \nSPECTATORS WILL BE ON FIRST COME BASIS.ONLY THE FIRST 100 SPECTATORS WILL \nBE ALLOWED AT KSH. 1000/- PER HEAD \nSEATING ARRANGEMENTS: THE PEAK SPORTS MEET MANAGEMENT WILL ALLOCATE \nSITTING SPACE/AREA AS PER NUMBER OF ATHLETES REGISTERED FOR ALL THE \nTEAMS IN ATTENDANCE. ALL THE TEAMS WILL BE EXPECTED TO MAINTAIN THEIR \nSEATING AREA. \n  \nUnder FINA/KSF Swimming Technical Rules \n\nMeet Date: 14th September 2024\nMeet Organizer: PEAK SPORTS KENYA\n\nE-mail: peaksportskenya@gmail.com \nPhone contacts: 0718 199 614 \n\nMeet Venue : AIL SAINTS CATHEDRAL SCHOOLS\nFacility Information:\n\nAIL SAINTS CATHEDRAL SCHOOLS swimming pool is a 6-lane\, 25-metre short course pool with a manual timing system. The depth of the water at the deep end is 2.4m and the depth at the shallow end is1m. \n\nKey Meet contact\n\nEntry coordinator  : Bonface Moti \nPhone: \n+254 718 199 614 \nEntry Submission: \n\nAll entries are to be submitted in writing with full names\, date of birth\, and event numbers\nEntries to be mailed to njoguanne74@gmail.com and copied to peaksportskenya@gmail.com\n\nEntry Submission Deadline \n\nAll Entries are to be sent latest Wednesday 14th September 2024\nEntries submitted after this date will not be accepted\n\nEntry Fees: \nEntry fees must be paid for each swimmer willing to participate in this meet. \n\nIndividual entry/activity fee for each individual timed final event/activity per swimmer is Ksh.500\nRelay entry fees for each relay event is Ksh.1000.\n\n 
URL:https://peaksports.co.ke/event/round-5-age-group-swimming-championships-3/
LOCATION:Consolata School\,  Nairobi\, Nairobi\, Nairobi\, Kenya
ATTACH;FMTTYPE=image/png:https://peaksports.co.ke/wp-content/uploads/2024/06/image.png
ORGANIZER;CN="Bonface Moti":MAILTO:peaksportskenya@gmail.com
END:VEVENT
BEGIN:VEVENT
DTSTART;VALUE=DATE:20240727
DTEND;VALUE=DATE:20240728
DTSTAMP:20260420T054252
CREATED:20240620T151214Z
LAST-MODIFIED:20240825T202657Z
UID:3591-1722038400-1722124799@peaksports.co.ke
SUMMARY:Cycling Experience - Karura Forest\,  Kiambu Road
DESCRIPTION:PEAK SPORTS CYCLING EXPERIENCE – KARURA FOREST\, KIAMBU ROAD \n             Summons……. \nDear School heads\, Sports HODs\, Swim Coaches\, Team managers\, Cyclists\, and Parents\, We thank you all for continued support you are giving to the growth of sports in the country. We really appreciate your efforts and ask us to walk this journey together to enable athletes’ nature their talents in\nvarious sports. Our events are purely meant to give that athlete a chance to showcase various talents in a given arena and aide in transiting from development-organized events to County\, National and International organized events. We therefore invite your school\, club\, son or daughter to Peak Sports Invitational Cycling Experience at Karura Forest\, Kiambu Road. We hope this will be a fantastic opportunity for all the teams and coaches to experience a well-organized cycling meet organized by the leading organization in cycling development. \n  \nSPECTATORS WILL BE ON FIRST COME BASIS.ONLY THE FIRST 100 SPECTATORS WILL \nBE ALLOWED AT KSH. 1000/- PER HEAD \nSEATING ARRANGEMENTS: THE PEAK SPORTS MEET MANAGEMENT WILL ALLOCATE \nSITTING SPACE/AREA AS PER NUMBER OF ATHLETES REGISTERED FOR ALL THE \nTEAMS IN ATTENDANCE. ALL THE TEAMS WILL BE EXPECTED TO MAINTAIN THEIR \nSEATING AREA. \n  \nUnder FINA/KSF Swimming Technical Rules \n\nMeet Date: 27th July 2024 \nMeet Organizer: PEAK SPORTS KENYA\n\nE-mail: peaksportskenya@gmail.com \nPhone contacts: 0718 199 614 \n\nMeet Venue : Karura Forest\, Kiambu Road \nKey Meet contact\n\nEntry coordinator  : Bonface Moti \nPhone: \n+254 718 199 614 \nEntry Submission: \n\nAll entries are to be submitted in writing with full names\, date of birth\, and event numbers\nEntries to be mailed to info@peaksports.co.ke\n\nEntry Submission Deadline \n\nAll Entries are to be sent latest 26th July 2024 \nEntries submitted after this date will not be accepted\n\nEntry Fees: \nEntry fees must be paid for each swimmer willing to participate in this meet. \n\nIndividual entry/activity fee for each individual timed final event/activity per swimmer is Ksh.500\nRelay entry fees for each relay event is Ksh.1000.\n\n 
URL:https://peaksports.co.ke/event/round-5-age-group-swimming-championships-2/
LOCATION:Karura Forest\,  Kiambu Road\, Nairobi\, Kenya
ATTACH;FMTTYPE=image/jpeg:https://peaksports.co.ke/wp-content/uploads/2024/06/unnamed-jpg.webp
ORGANIZER;CN="Bonface Moti":MAILTO:peaksportskenya@gmail.com
END:VEVENT
BEGIN:VEVENT
DTSTART;VALUE=DATE:20240307
DTEND;VALUE=DATE:20240308
DTSTAMP:20260420T054252
CREATED:20240615T125852Z
LAST-MODIFIED:20260122T110000Z
UID:3394-1709769600-1709855999@peaksports.co.ke
SUMMARY:Invitational Stroke Swimming Gala scheduled for 7th March 2026 at All Saints Cathedral School\, Nairobi
DESCRIPTION:PEAK SPORTS INVITATIONAL STROKE SWIMMING GALA – 2026 \nSummonsDear School Heads\, Sports HODs\, Swim Coaches\, Team Managers\, Swimmers\, and Parents\,We sincerely thank you for the continued support you give towards the growth and development of sports in the country. Your commitment plays a vital role in nurturing young athletes and enabling them to develop and showcase their talents across various sporting disciplines. Our events are designed to provide athletes with an opportunity to showcase their abilities in a competitive and professional environment\, while also aiding their transition from development-organized competitions to County\, National\, and International events. We therefore invite your school\, club\, son\, or daughter to participate in the Peak Sports Invitational Stroke Swimming Gala scheduled for 7th March 2026 at All Saints Cathedral School\, Nairobi. This meet will offer swimmers a valuable opportunity to compete in a well-organized gala focused on stroke development and technical excellence\, organized by a leading institution in swimming development. \nSpectator Information \n\n\nAdmission will be on a first-come basis \n\n\nOnly the first 100 spectators will be allowed \n\n\nEntry fee: Ksh 1\,000 per head \n\n\nSeating Arrangements \n\n\nSeating space will be allocated by Peak Sports Meet Management \n\n\nAllocation will be based on the number of athletes registered per team \n\n\nAll teams must maintain their designated seating areas \n\n\nTechnical Rules \n\n\nThe meet will be conducted under FINA/KSF Swimming Technical Rules \n\n\nMeet Details \n\n\nMeet Date: 7th March 2026 \n\n\nMeet Organizer: Peak Sports Kenya \n\n\nMeet Venue: All Saints Cathedral School\, Nairobi \n\n\nFacility Information \n\n\n6-lane\, 25-metre short-course swimming pool \n\n\nManual timing system \n\n\nWater depth: \n\n\nDeep end: 2.4 metres \n\n\nShallow end: 1.0 metre \n\n\n\n\nContact Information \n\n\nEmail: peaksportskenya@gmail.com \n\n\nPhone: +254 718 199 614 \n\n\nKey Meet Contact \n\n\nEntry Coordinator: Bonface Moti \n\n\nPhone: +254 718 199 614 \n\n\nEntry Submission \n\n\nEntries must be submitted in writing and include: \n\n\nFull names \n\n\nDate of birth \n\n\nEvent numbers \n\n\n\n\nEntries to be emailed to: \n\n\ninfo@peaksports.co.ke \n\n\nCopy to: peaksportskenya@gmail.com \n\n\n\n\nEntry Submission Deadline \n\n\nLatest submission date: Friday\, 21st February 2026 \n\n\nEntries submitted after this date will not be accepted \n\n\nEntry Fees \n\n\nIndividual timed final event/activity: Ksh 500 per swimmer \n\n\nRelay event: Ksh 1\,000 per relay \n\n\nEntry fees must be paid for each swimmer willing to participate \n\n\nResults \n\n\nResults and medal counts will be shared in PDF format after the event
URL:https://peaksports.co.ke/event/round-5-age-group-swimming-championships/
LOCATION:All Saints’ Cathedral Primary School\, All Saints' Cathedral Primary School\, Nairobi\, 00100\, Kenya
ATTACH;FMTTYPE=image/jpeg:https://peaksports.co.ke/wp-content/uploads/2024/06/Screenshot_20240614-200938_WhatsApp-1075x663-1.jpg
ORGANIZER;CN="Bonface Moti":MAILTO:peaksportskenya@gmail.com
END:VEVENT
END:VCALENDAR