BEGIN:VCALENDAR
VERSION:2.0
PRODID:-//PEAK SPORTS - ECPv6.7.0//NONSGML v1.0//EN
CALSCALE:GREGORIAN
METHOD:PUBLISH
X-ORIGINAL-URL:https://peaksports.co.ke
X-WR-CALDESC:Events for PEAK SPORTS
REFRESH-INTERVAL;VALUE=DURATION:PT1H
X-Robots-Tag:noindex
X-PUBLISHED-TTL:PT1H
BEGIN:VTIMEZONE
TZID:UTC
BEGIN:STANDARD
TZOFFSETFROM:+0000
TZOFFSETTO:+0000
TZNAME:UTC
DTSTART:20260101T000000
END:STANDARD
END:VTIMEZONE
BEGIN:VEVENT
DTSTART;TZID=UTC:20260404T000000
DTEND;TZID=UTC:20260405T000000
DTSTAMP:20260420T071409
CREATED:20260122T110516Z
LAST-MODIFIED:20260122T110516Z
UID:5050-1775260800-1775347200@peaksports.co.ke
SUMMARY:Peak Sports Invitational – The Legends League\, scheduled for 4th–5th April 2026 at MM Shah & MV Shah Academy\, Mombasa.
DESCRIPTION:PEAK SPORTS INVITATIONAL THE LEGENDS LEAGUE – 2026(Skating\, Chess\, Swimming\, Football\, Basketball & Netball) \nSummonsDear School Heads\, Sports HODs\, Games Coaches\, Team Managers\, Players\, Athletes\, and Parents\,We sincerely thank you for the continued support you give towards the growth and development of sports in the country. Your commitment continues to play a key role in nurturing young athletes and enabling them to develop and showcase their talents across various sporting disciplines. Our events are designed to provide athletes with an opportunity to compete in a structured\, inclusive\, and professionally organized environment\, while supporting their transition from development-level competitions to County\, National\, and International events. We therefore invite your school\, club\, son\, or daughter to participate in the Peak Sports Invitational – The Legends League\, scheduled for 4th–5th April 2026 at MM Shah & MV Shah Academy\, Mombasa. This multi-sport league will bring together athletes from different disciplines\, offering a unique platform for competition\, growth\, and exposure. \nSpectator Information \n\n\nAdmission will be on a first-come basis \n\n\nOnly the first 100 spectators will be allowed \n\n\nEntry fee: Ksh 1\,000 per head \n\n\nSeating Arrangements \n\n\nSeating areas will be allocated by Peak Sports Meet Management \n\n\nAllocation will be based on the number of registered athletes per team \n\n\nAll teams must maintain their designated seating areas \n\n\nTechnical Rules \n\n\nAll competitions will be conducted under the relevant governing body rules for each sport \n\n\nEvent Details \n\n\nEvent Dates: 4th–5th April 2026 \n\n\nEvent Organizer: Peak Sports Kenya \n\n\nEvent Venue: MM Shah & MV Shah Academy\, Mombasa \n\n\nDisciplines Featured \n\n\nSkating \n\n\nChess \n\n\nSwimming \n\n\nFootball \n\n\nBasketball \n\n\nNetball \n\n\nContact Information \n\n\nEmail: peaksportskenya@gmail.com \n\n\nPhone: +254 718 199 614 \n\n\nKey Event Contact \n\n\nEntry Coordinator: Bonface Moti \n\n\nPhone: +254 718 199 614 \n\n\nEntry Submission \n\n\nEntries must be submitted in writing and include: \n\n\nSchool/Club name \n\n\nDiscipline(s) participating \n\n\nTeam/athlete list \n\n\nContact details of team official \n\n\n\n\nEntries to be emailed to: \n\n\ninfo@peaksports.co.ke \n\n\nCopy to: peaksportskenya@gmail.com \n\n\n\n\nEntry Submission Deadline \n\n\nAll entries must be received latest Friday\, 20th March 2026 \n\n\nEntries submitted after this date will not be accepted \n\n\nEntry Fees \n\n\nEntry fees must be paid for each discipline and participant/team \n\n\nDetailed fees will be communicated upon confirmation of participation
URL:https://peaksports.co.ke/event/round-5-age-group-swimming-championships-2-2-2-2-3/
LOCATION:MM Shah & MV Shah Academy \, Mombasa\, P.O.BOX 61585\, Mombasa\, 00200\, Kenya
ATTACH;FMTTYPE=image/png:https://peaksports.co.ke/wp-content/uploads/2025/01/PEAK-SPORTS-MAIN-DOC-.png
END:VEVENT
END:VCALENDAR