BEGIN:VCALENDAR
VERSION:2.0
PRODID:-//PEAK SPORTS - ECPv6.7.0//NONSGML v1.0//EN
CALSCALE:GREGORIAN
METHOD:PUBLISH
X-WR-CALNAME:PEAK SPORTS
X-ORIGINAL-URL:https://peaksports.co.ke
X-WR-CALDESC:Events for PEAK SPORTS
REFRESH-INTERVAL;VALUE=DURATION:PT1H
X-Robots-Tag:noindex
X-PUBLISHED-TTL:PT1H
BEGIN:VTIMEZONE
TZID:Africa/Nairobi
BEGIN:STANDARD
TZOFFSETFROM:+0300
TZOFFSETTO:+0300
TZNAME:EAT
DTSTART:20260101T000000
END:STANDARD
TZID:UTC
BEGIN:STANDARD
TZOFFSETFROM:+0000
TZOFFSETTO:+0000
TZNAME:UTC
DTSTART:20260101T000000
END:STANDARD
END:VTIMEZONE
BEGIN:VEVENT
DTSTART;VALUE=DATE:20260131
DTEND;VALUE=DATE:20260201
DTSTAMP:20260420T021918
CREATED:20260122T090515Z
LAST-MODIFIED:20260122T090646Z
UID:4923-1769817600-1769903999@peaksports.co.ke
SUMMARY:Skills Swimming Gala at All Saints Cathedral School\, Nairobi.
DESCRIPTION:Skills Swimming Gala at All Saints Cathedral School\, Nairobi. \n             Summons……. \nDear School heads\, Sports HODs\, Swim Coaches\, Team managers\, Cyclists\, and Parents\, We thank you all for continued support you are giving to the growth of sports in the country. We really appreciate your efforts and ask us to walk this journey together to enable athletes’ nature their talents in\nvarious sports. Our events are purely meant to give that athlete a chance to showcase various talents in a given arena and aide in transiting from development-organized events to County\, National and International organized events. We therefore invite your school\, club\, son or daughter to Peak Sports Invitational Skills Swimming Gala at All Saints Cathedral. We hope this will be a fantastic opportunity for all the teams and coaches to experience a well-organized cycling meet organized by the leading organization in cycling development. \n  \nSPECTATORS WILL BE ON FIRST COME BASIS.ONLY THE FIRST 100 SPECTATORS WILL \nBE ALLOWED AT KSH. 1000/- PER HEAD \nSEATING ARRANGEMENTS: THE PEAK SPORTS MEET MANAGEMENT WILL ALLOCATE \nSITTING SPACE/AREA AS PER NUMBER OF ATHLETES REGISTERED FOR ALL THE \nTEAMS IN ATTENDANCE. ALL THE TEAMS WILL BE EXPECTED TO MAINTAIN THEIR \nSEATING AREA. \n  \nUnder FINA/KSF Swimming Technical Rules \n\nMeet Date: 31st January 2026\nMeet Organizer: PEAK SPORTS KENYA\n\nE-mail: peaksportskenya@gmail.com \nPhone contacts: 0718 199 614 \n\nMeet Venue : All Saints Cathedral School\, Nairobi.\nKey Meet contact\n\nEntry coordinator  : Bonface Moti \nPhone: \n+254 718 199 614 \nEntry Submission: \n\nAll entries are to be submitted in writing with full names\, date of birth\, and event numbers\nEntries to be mailed to info@peaksports.co.ke\n\nEntry Submission Deadline \n\nAll Entries are to be sent latest 31st January 2026\nEntries submitted after this date will not be accepted\n\nEntry Fees: \nEntry fees must be paid for each swimmer willing to participate in this meet. \n\nIndividual entry/activity fee for each individual timed final event/activity per swimmer is Ksh.500\nRelay entry fees for each relay event is Ksh.1000.\n\n 
URL:https://peaksports.co.ke/event/round-5-age-group-swimming-championships-3-8-3/
LOCATION:All Saints’ Cathedral Primary School\, All Saints' Cathedral Primary School\, Nairobi\, 00100\, Kenya
ATTACH;FMTTYPE=image/png:https://peaksports.co.ke/wp-content/uploads/2024/06/image.png
ORGANIZER;CN="Bonface Moti":MAILTO:peaksportskenya@gmail.com
END:VEVENT
BEGIN:VEVENT
DTSTART;VALUE=DATE:20260214
DTEND;VALUE=DATE:20260215
DTSTAMP:20260420T021918
CREATED:20260122T104558Z
LAST-MODIFIED:20260122T104558Z
UID:4922-1771027200-1771113599@peaksports.co.ke
SUMMARY:1st Goal Football\, Basketball & Netball Tournament at Juja St.Peters School.
DESCRIPTION:1st Goal Football\, Basketball & Netball Tournament at Juja St.Peters School. \n             Summons……. \nDear School heads\, Sports HODs\, Swim Coaches\, Team managers\, Cyclists\, and Parents\, We thank you all for continued support you are giving to the growth of sports in the country. We really appreciate your efforts and ask us to walk this journey together to enable athletes’ nature their talents in\nvarious sports. Our events are purely meant to give that athlete a chance to showcase various talents in a given arena and aide in transiting from development-organized events to County\, National and International organized events. We therefore invite your school\, club\, son or daughter to Peak Sports Invitational 1st Goal Football\, Basketball & Netball Tournament at Juja St. Peter’s School. We hope this will be a fantastic opportunity for all the teams and coaches to experience a well-organized cycling meet organized by the leading organization in cycling development. \n  \nSPECTATORS WILL BE ON FIRST COME BASIS.ONLY THE FIRST 100 SPECTATORS WILL \nBE ALLOWED AT KSH. 1000/- PER HEAD \nSEATING ARRANGEMENTS: THE PEAK SPORTS MEET MANAGEMENT WILL ALLOCATE \nSITTING SPACE/AREA AS PER NUMBER OF ATHLETES REGISTERED FOR ALL THE \nTEAMS IN ATTENDANCE. ALL THE TEAMS WILL BE EXPECTED TO MAINTAIN THEIR \nSEATING AREA. \n  \nUnder FINA/KSF Swimming Technical Rules \n\nMeet Date: 14th Feb 2026\nMeet Organizer: PEAK SPORTS KENYA\n\nE-mail: peaksportskenya@gmail.com \nPhone contacts: 0718 199 614 \n\nMeet Venue : Juja St.Peters School.\nKey Meet contact\n\nEntry coordinator  : Bonface Moti \nPhone: \n+254 718 199 614 \nEntry Submission: \n\nAll entries are to be submitted in writing with full names\, date of birth\, and event numbers\nEntries to be mailed to info@peaksports.co.ke\n\nEntry Submission Deadline \n\nAll Entries are to be sent latest 14th Feb 2026\nEntries submitted after this date will not be accepted\n\nEntry Fees: \nEntry fees must be paid for each swimmer willing to participate in this meet. \n\nIndividual entry/activity fee for each individual timed final event/activity per swimmer is Ksh.500\nRelay entry fees for each relay event is Ksh.1000.\n\n 
URL:https://peaksports.co.ke/event/round-5-age-group-swimming-championships-2-2-2-3/
LOCATION:Juja St.Peters School.\, Kenya
ATTACH;FMTTYPE=image/png:https://peaksports.co.ke/wp-content/uploads/2025/01/PEAK-SPORTS-MAIN-DOC-.png
ORGANIZER;CN="Bonface Moti":MAILTO:peaksportskenya@gmail.com
END:VEVENT
BEGIN:VEVENT
DTSTART;VALUE=DATE:20260221
DTEND;VALUE=DATE:20260222
DTSTAMP:20260420T021918
CREATED:20260122T104914Z
LAST-MODIFIED:20260122T104914Z
UID:4925-1771632000-1771718399@peaksports.co.ke
SUMMARY:Agre Group Swimming Championships at St. Nicholas School\, Kabarnet Road
DESCRIPTION:Agre Group Swimming Championships at St. Nicholas School\, Kabarnet Road \n             Summons……. \nDear School heads\, Sports HODs\, Swim Coaches\, Team managers\, Swimmers\, and Parents\, We thank you all for continued support you are giving to the growth of sports in the country. We really appreciate your efforts and ask us to walk this journey together to enable athletes’ nature their talents in\nvarious sports. Our events are purely meant to give that athlete a chance to showcase various talents in a given arena and aide in transiting from development-organized events to County\, National and International organized events. We therefore invite your school\, club\, son or daughter to Peak Sports Invitational Swimming Championships slated for 21st Feb 2026 at St. Nicholas School\, Kabarmet Road. This will give swimmers the opportunity to participate in a well-organized meet. We hope this will be a fantastic opportunity for all the swimmers and coaches to experience a well-organized swim meet organized by the leading organization in swimming development. \n  \nSPECTATORS WILL BE ON FIRST COME BASIS.ONLY THE FIRST 100 SPECTATORS WILL \nBE ALLOWED AT KSH. 1000/- PER HEAD \nSEATING ARRANGEMENTS: THE PEAK SPORTS MEET MANAGEMENT WILL ALLOCATE \nSITTING SPACE/AREA AS PER NUMBER OF ATHLETES REGISTERED FOR ALL THE \nTEAMS IN ATTENDANCE. ALL THE TEAMS WILL BE EXPECTED TO MAINTAIN THEIR \nSEATING AREA. \n  \nUnder FINA/KSF Swimming Technical Rules \n\nMeet Date: 21st Feb 2026\nMeet Organizer: PEAK SPORTS KENYA\n\nE-mail: peaksportskenya@gmail.com \nPhone contacts: 0718 199 614 \n\nMeet Venue :St. Nicholas School\, Kabarnet Road\nFacility Information:\n\nAll Saints Cathedral School swimming pool is a 6-lane\, 25-metre short course pool with a manual timing system. The depth of the water at the deep end is 2.4m and the depth at the shallow end is 1m. \n\nKey Meet contact\n\nEntry coordinator  : Bonface Moti \nPhone: \n+254 718 199 614 \nEntry Submission: \n\nAll entries are to be submitted in writing with full names\, date of birth\, and event numbers\nEntries to be mailed to njoguanne74@gmail.com and copied to peaksportskenya@gmail.com\n\nEntry Submission Deadline \n\nAll Entries are to be sent latest 21st Feb 2026\nEntries submitted after this date will not be accepted\n\nEntry Fees: \nEntry fees must be paid for each swimmer willing to participate in this meet. \n\nIndividual entry/activity fee for each individual timed final event/activity per swimmer is Ksh.500\nRelay entry fees for each relay event is Ksh.1000.\n\n 
URL:https://peaksports.co.ke/event/round-5-age-group-swimming-championships-3-8-4/
LOCATION:St. Nicholas School\, Kabarnet Road\, P.O.BOX 61585\, Nairobi\, 00200\, Kenya
ATTACH;FMTTYPE=image/png:https://peaksports.co.ke/wp-content/uploads/2024/06/image.png
ORGANIZER;CN="Bonface Moti":MAILTO:peaksportskenya@gmail.com
END:VEVENT
BEGIN:VEVENT
DTSTART;VALUE=DATE:20260307
DTEND;VALUE=DATE:20260308
DTSTAMP:20260420T021918
CREATED:20260122T111103Z
LAST-MODIFIED:20260122T111129Z
UID:5051-1772841600-1772927999@peaksports.co.ke
SUMMARY:7th March 2026 at All Saints Cathedral School\, Nairobi.
DESCRIPTION:PEAK SPORTS INVITATIONAL STROKE SWIMMING GALA – 2026 \nSummonsDear School Heads\, Sports HODs\, Swim Coaches\, Team Managers\, Swimmers\, and Parents\,We sincerely thank you for the continued support you give towards the growth and development of sports in the country. Your commitment plays a vital role in nurturing young athletes and enabling them to develop and showcase their talents across various sporting disciplines. Our events are designed to provide athletes with an opportunity to compete in a professional and well-organized environment\, while aiding their transition from development-level competitions to County\, National\, and International events. We therefore invite your school\, club\, son\, or daughter to participate in the Peak Sports Invitational Stroke Swimming Gala\, scheduled for 7th March 2026 at All Saints Cathedral School\, Nairobi. This gala will focus on stroke technique\, skill development\, and competitive excellence\, offering swimmers a valuable platform to showcase their abilities. \nSpectator Information \n\n\nAdmission will be on a first-come basis \n\n\nOnly the first 100 spectators will be allowed \n\n\nEntry fee: Ksh 1\,000 per head \n\n\nSeating Arrangements \n\n\nSeating space will be allocated by Peak Sports Meet Management \n\n\nAllocation will be based on the number of athletes registered per team \n\n\nAll teams must maintain their designated seating areas \n\n\nTechnical Rules \n\n\nThe meet will be conducted under FINA/KSF Swimming Technical Rules \n\n\nMeet Details \n\n\nMeet Date: 7th March 2026 \n\n\nMeet Organizer: Peak Sports Kenya \n\n\nMeet Venue: All Saints Cathedral School\, Nairobi \n\n\nFacility Information \n\n\n6-lane\, 25-metre short-course swimming pool \n\n\nManual timing system \n\n\nWater depth: \n\n\nDeep end: 2.4 metres \n\n\nShallow end: 1.0 metre \n\n\n\n\nContact Information \n\n\nEmail: peaksportskenya@gmail.com \n\n\nPhone: +254 718 199 614 \n\n\nKey Meet Contact \n\n\nEntry Coordinator: Bonface Moti \n\n\nPhone: +254 718 199 614 \n\n\nEntry Submission \n\n\nEntries must be submitted in writing and include: \n\n\nFull names \n\n\nDate of birth \n\n\nEvent numbers \n\n\n\n\nEntries to be emailed to: \n\n\ninfo@peaksports.co.ke \n\n\nCopy to: peaksportskenya@gmail.com \n\n\n\n\nEntry Submission Deadline \n\n\nAll entries must be received latest March 7th\, 2026 \n\n\nEntries submitted after this date will not be accepted \n\n\nEntry Fees \n\n\nIndividual timed final event/activity: Ksh 500 per swimmer \n\n\nRelay event: Ksh 1\,000 per relay \n\n\nEntry fees must be paid for each swimmer willing to participate \n\n\nResults \n\n\nResults and medal counts will be shared in PDF format after the event
URL:https://peaksports.co.ke/event/round-5-age-group-swimming-championships-2-2-2-2-4/
LOCATION:All Saints’ Cathedral Primary School\, All Saints' Cathedral Primary School\, Nairobi\, 00100\, Kenya
ATTACH;FMTTYPE=image/png:https://peaksports.co.ke/wp-content/uploads/2025/01/PEAK-SPORTS-MAIN-DOC-.png
ORGANIZER;CN="Bonface Moti":MAILTO:peaksportskenya@gmail.com
END:VEVENT
BEGIN:VEVENT
DTSTART;VALUE=DATE:20260314
DTEND;VALUE=DATE:20260315
DTSTAMP:20260420T021918
CREATED:20260122T110321Z
LAST-MODIFIED:20260122T110321Z
UID:5049-1773446400-1773532799@peaksports.co.ke
SUMMARY:2nd Goal Football\, Basketball & Netball Tournament\, scheduled for 14th March 2026 at St. Nicholas School\, Kabarnet Road.
DESCRIPTION:PEAK SPORTS INVITATIONAL 2ND GOAL FOOTBALL\, BASKETBALL & NETBALL TOURNAMENT – 2026 \nSummonsDear School Heads\, Sports HODs\, Games Coaches\, Team Managers\, Players\, and Parents\,We sincerely thank you for the continued support you give towards the growth and development of sports in the country. Your commitment plays a vital role in nurturing young athletes and enabling them to develop and showcase their talents across various sporting disciplines. Our events are designed to provide athletes with an opportunity to compete in a structured and professional environment\, while aiding their transition from development-level competitions to County\, National\, and International events. We therefore invite your school\, club\, son\, or daughter to participate in the Peak Sports Invitational 2nd Goal Football\, Basketball & Netball Tournament\, scheduled for 14th March 2026 at St. Nicholas School\, Kabarnet Road. This tournament will offer teams a valuable opportunity to compete\, grow\, and gain experience in a well-organized multi-sport event. \nSpectator Information \n\n\nAdmission will be on a first-come basis \n\n\nOnly the first 100 spectators will be allowed \n\n\nEntry fee: Ksh 1\,000 per head \n\n\nSeating Arrangements \n\n\nSeating space will be allocated by Peak Sports Meet Management \n\n\nAllocation will be based on the number of registered athletes per team \n\n\nAll teams must maintain their designated seating areas \n\n\nTechnical Rules \n\n\nMatches will be conducted under the relevant Football\, Basketball\, and Netball governing rules \n\n\nMeet Details \n\n\nEvent Date: 14th March 2026 \n\n\nEvent Organizer: Peak Sports Kenya \n\n\nEvent Venue: St. Nicholas School\, Kabarnet Road \n\n\nContact Information \n\n\nEmail: peaksportskenya@gmail.com \n\n\nPhone: +254 718 199 614 \n\n\nKey Event Contact \n\n\nEntry Coordinator: Bonface Moti \n\n\nPhone: +254 718 199 614 \n\n\nEntry Submission \n\n\nEntries must be submitted in writing and include: \n\n\nSchool/Club name \n\n\nTeam category \n\n\nList of players \n\n\nTeam official contacts \n\n\n\n\nEntries to be emailed to: \n\n\ninfo@peaksports.co.ke \n\n\nCopy to: peaksportskenya@gmail.com \n\n\n\n\nEntry Submission Deadline \n\n\nAll entries must be received latest Friday\, 28th February 2026 \n\n\nEntries submitted after this date will not be accepted \n\n\nEntry Fees \n\n\nEntry fees must be paid for each team participating \n\n\nTeam entry fees will be communicated upon confirmation of participation \n\n\n 
URL:https://peaksports.co.ke/event/round-5-age-group-swimming-championships-2-2-2-2-2/
LOCATION:St. Nicholas School\, Kabarnet Road\, P.O.BOX 61585\, Nairobi\, 00200\, Kenya
ATTACH;FMTTYPE=image/png:https://peaksports.co.ke/wp-content/uploads/2025/01/PEAK-SPORTS-MAIN-DOC-.png
ORGANIZER;CN="Bonface Moti":MAILTO:peaksportskenya@gmail.com
END:VEVENT
BEGIN:VEVENT
DTSTART;TZID=UTC:20260404T000000
DTEND;TZID=UTC:20260405T000000
DTSTAMP:20260420T021918
CREATED:20260122T110516Z
LAST-MODIFIED:20260122T110516Z
UID:5050-1775260800-1775347200@peaksports.co.ke
SUMMARY:Peak Sports Invitational – The Legends League\, scheduled for 4th–5th April 2026 at MM Shah & MV Shah Academy\, Mombasa.
DESCRIPTION:PEAK SPORTS INVITATIONAL THE LEGENDS LEAGUE – 2026(Skating\, Chess\, Swimming\, Football\, Basketball & Netball) \nSummonsDear School Heads\, Sports HODs\, Games Coaches\, Team Managers\, Players\, Athletes\, and Parents\,We sincerely thank you for the continued support you give towards the growth and development of sports in the country. Your commitment continues to play a key role in nurturing young athletes and enabling them to develop and showcase their talents across various sporting disciplines. Our events are designed to provide athletes with an opportunity to compete in a structured\, inclusive\, and professionally organized environment\, while supporting their transition from development-level competitions to County\, National\, and International events. We therefore invite your school\, club\, son\, or daughter to participate in the Peak Sports Invitational – The Legends League\, scheduled for 4th–5th April 2026 at MM Shah & MV Shah Academy\, Mombasa. This multi-sport league will bring together athletes from different disciplines\, offering a unique platform for competition\, growth\, and exposure. \nSpectator Information \n\n\nAdmission will be on a first-come basis \n\n\nOnly the first 100 spectators will be allowed \n\n\nEntry fee: Ksh 1\,000 per head \n\n\nSeating Arrangements \n\n\nSeating areas will be allocated by Peak Sports Meet Management \n\n\nAllocation will be based on the number of registered athletes per team \n\n\nAll teams must maintain their designated seating areas \n\n\nTechnical Rules \n\n\nAll competitions will be conducted under the relevant governing body rules for each sport \n\n\nEvent Details \n\n\nEvent Dates: 4th–5th April 2026 \n\n\nEvent Organizer: Peak Sports Kenya \n\n\nEvent Venue: MM Shah & MV Shah Academy\, Mombasa \n\n\nDisciplines Featured \n\n\nSkating \n\n\nChess \n\n\nSwimming \n\n\nFootball \n\n\nBasketball \n\n\nNetball \n\n\nContact Information \n\n\nEmail: peaksportskenya@gmail.com \n\n\nPhone: +254 718 199 614 \n\n\nKey Event Contact \n\n\nEntry Coordinator: Bonface Moti \n\n\nPhone: +254 718 199 614 \n\n\nEntry Submission \n\n\nEntries must be submitted in writing and include: \n\n\nSchool/Club name \n\n\nDiscipline(s) participating \n\n\nTeam/athlete list \n\n\nContact details of team official \n\n\n\n\nEntries to be emailed to: \n\n\ninfo@peaksports.co.ke \n\n\nCopy to: peaksportskenya@gmail.com \n\n\n\n\nEntry Submission Deadline \n\n\nAll entries must be received latest Friday\, 20th March 2026 \n\n\nEntries submitted after this date will not be accepted \n\n\nEntry Fees \n\n\nEntry fees must be paid for each discipline and participant/team \n\n\nDetailed fees will be communicated upon confirmation of participation
URL:https://peaksports.co.ke/event/round-5-age-group-swimming-championships-2-2-2-2-3/
LOCATION:MM Shah & MV Shah Academy \, Mombasa\, P.O.BOX 61585\, Mombasa\, 00200\, Kenya
ATTACH;FMTTYPE=image/png:https://peaksports.co.ke/wp-content/uploads/2025/01/PEAK-SPORTS-MAIN-DOC-.png
END:VEVENT
END:VCALENDAR